BEGIN:VCALENDAR
VERSION:2.0
PRODID:-//Burkittsville Preservation Association - ECPv6.15.20//NONSGML v1.0//EN
CALSCALE:GREGORIAN
METHOD:PUBLISH
X-WR-CALNAME:Burkittsville Preservation Association
X-ORIGINAL-URL:https://burkittsvillepreservation.org
X-WR-CALDESC:Events for Burkittsville Preservation Association
REFRESH-INTERVAL;VALUE=DURATION:PT1H
X-Robots-Tag:noindex
X-PUBLISHED-TTL:PT1H
BEGIN:VTIMEZONE
TZID:America/New_York
BEGIN:DAYLIGHT
TZOFFSETFROM:-0500
TZOFFSETTO:-0400
TZNAME:EDT
DTSTART:20220313T070000
END:DAYLIGHT
BEGIN:STANDARD
TZOFFSETFROM:-0400
TZOFFSETTO:-0500
TZNAME:EST
DTSTART:20221106T060000
END:STANDARD
BEGIN:DAYLIGHT
TZOFFSETFROM:-0500
TZOFFSETTO:-0400
TZNAME:EDT
DTSTART:20230312T070000
END:DAYLIGHT
BEGIN:STANDARD
TZOFFSETFROM:-0400
TZOFFSETTO:-0500
TZNAME:EST
DTSTART:20231105T060000
END:STANDARD
BEGIN:DAYLIGHT
TZOFFSETFROM:-0500
TZOFFSETTO:-0400
TZNAME:EDT
DTSTART:20240310T070000
END:DAYLIGHT
BEGIN:STANDARD
TZOFFSETFROM:-0400
TZOFFSETTO:-0500
TZNAME:EST
DTSTART:20241103T060000
END:STANDARD
BEGIN:DAYLIGHT
TZOFFSETFROM:-0500
TZOFFSETTO:-0400
TZNAME:EDT
DTSTART:20250309T070000
END:DAYLIGHT
BEGIN:STANDARD
TZOFFSETFROM:-0400
TZOFFSETTO:-0500
TZNAME:EST
DTSTART:20251102T060000
END:STANDARD
END:VTIMEZONE
BEGIN:VEVENT
DTSTART;TZID=America/New_York:20240914T160000
DTEND;TZID=America/New_York:20240914T160000
DTSTAMP:20260419T105444
CREATED:20240808T003254Z
LAST-MODIFIED:20240808T003429Z
UID:1167-1726329600-1726329600@burkittsvillepreservation.org
SUMMARY:The Country Gentlemen Show
DESCRIPTION:Bluegrass at the Farm. The Country Gentlemen Show tribute band. Children under 12 free. BYO lawn chairs and blankets. 1606 Gapland Rd. Jefferson\, Maryland 21755.
URL:https://burkittsvillepreservation.org/event/the-country-gentlemen-show/
LOCATION:Shafer Farm\, 1606 Gapland Rd.\, Jefferson\, MD\, 21718\, United States
CATEGORIES:Concert
ATTACH;FMTTYPE=image/jpeg:https://burkittsvillepreservation.org/wp-content/uploads/2024/08/bpaflyer2-scaled.jpg
END:VEVENT
BEGIN:VEVENT
DTSTART;TZID=America/New_York:20240601T140000
DTEND;TZID=America/New_York:20240601T140000
DTSTAMP:20260419T105444
CREATED:20240301T120642Z
LAST-MODIFIED:20240303T134747Z
UID:1147-1717250400-1717250400@burkittsvillepreservation.org
SUMMARY:Boogie By The Barn
DESCRIPTION:Featuring\n\n\nThe Dargan Benders\n\n \nThe Gravy Soppers \n\n\n \nThe Burkittsville Preservation Association will host its first annual concert series on June 1\, 2024 from 2 PM – 6:30 PM at the H. W. Shafer Farm (1606 Gapland Rd\, Jefferson\, MD 21755) featuring an afternoon of old time string band music from local bands The Gravy Soppers and The Dargan Benders. There will be a food truck and local beer from Smoketown Brewing Station (Brunswick) on tap. Concert goers should bring lawn chairs and blankets. Tickets are $10; kids 12 and under are free. Gates open at 1 PM.  \n  \nOrder Tickets Here
URL:https://burkittsvillepreservation.org/event/boogie-by-the-barn-june-1/
LOCATION:Shafer Farm\, 1606 Gapland Rd.\, Jefferson\, MD\, 21718\, United States
CATEGORIES:Concert
ATTACH;FMTTYPE=image/jpeg:https://burkittsvillepreservation.org/wp-content/uploads/2024/03/Red-Final-scaled.jpeg
END:VEVENT
BEGIN:VEVENT
DTSTART;TZID=America/New_York:20231014T140000
DTEND;TZID=America/New_York:20231014T183000
DTSTAMP:20260419T105444
CREATED:20231014T214209Z
LAST-MODIFIED:20240226T022931Z
UID:966-1697292000-1697308200@burkittsvillepreservation.org
SUMMARY:Old Time String Band Concert - October 14th
DESCRIPTION:The 1st Annual \n\n\n\nOld Time String Band Concert \n\n\n\nat the \n\n\n\nShafer Farm in Burkittsville\, MD \n\n\n\nBenefitting the Burkittsville Preservation Association on Saturday\, October 14th \n\n\n\nFeaturing \n\n\n\nThe Dargan Benders \n\n\n\nThe Gravy Soppers \n\n\n\n \n\n\n\nThe Burkittsville Preservation Association will host its first annual concert series on October 14th\, 2023 from 2pm – 6:30pm at the H. W. Shafer Farm (1606 Gapland Rd\, Jefferson\, MD 21755) featuring an afternoon of old time string band music from local bands The Gravy Soppers and The Dargan Benders. There will be a food truck (The Pita King) and local beer from Smoketown Brewing Station (Brunswick) on tap. Concert goers should bring lawn chairs and blankets. Tickets are $8 ahead of time on the Burkittsville Preservation Association website or $10 day-of at the event; kids 12 and under are free. Gates open at 1 pm. 
URL:https://burkittsvillepreservation.org/event/old-time-string-band-concert-october-14th-2/
LOCATION:MD
CATEGORIES:Concert
ATTACH;FMTTYPE=image/jpeg:https://burkittsvillepreservation.org/wp-content/uploads/2023/08/POSTPONEDBurkittsvilleOldTime-ConcertNoQR_small.jpg
END:VEVENT
END:VCALENDAR